BEGIN:VCALENDAR
VERSION:2.0
PRODID:-//eventon.com NONSGML v1.0//EN
CALSCALE:GREGORIAN
METHOD:PUBLISH
BEGIN:VEVENT
UID:69e5e1214fa00
DTSTAMP:20260420T081737Z
DTSTART:20240307T190000Z
DTEND:20240307T210000Z
LOCATION:
SUMMARY:Mesa Redonda "La educación a debate: panorama de la educación actual"
DESCRIPTION:Mesa Redonda «La educación a debate: panorama de la educació
 n actual» Participantes: Ana Elduque Palomo. Catedrática de Química Inor
 gánica de UNIZAR Aurelio López de Hita. Presidente del Consejo social de 
 UNIZAR Pilar Fernández Fortún. Directora del Colegio Juan de Lanuza Juan 
 Antonio Rodríguez Bueno. Docente del CEIP Ramón y Cajal[..]\nhttps://aten
 eodezaragoza.com/events/mesa-redonda-la-educacion-a-debate-panorama-de-la-e
 ducacion-actual/
URL:https://ateneodezaragoza.com/events/mesa-redonda-la-educacion-a-debate-panorama-de-la-educacion-actual/
END:VEVENT
END:VCALENDAR