BEGIN:VCALENDAR
VERSION:2.0
PRODID:-//eventon.com NONSGML v1.0//EN
CALSCALE:GREGORIAN
METHOD:PUBLISH
BEGIN:VEVENT
UID:69e891c742895
DTSTAMP:20260422T091551Z
DTSTART:20260428T190000Z
DTEND:20260428T201500Z
LOCATION:
SUMMARY:La Capilla de los Arcángeles en La Seo del Salvador
DESCRIPTION:Charla-Conferencia La Capilla de los Arcángeles en La Seo del 
 Salvador. Cámara Sala Carreras Pso. Isabel La Católica\,  2 28 de abril\,
   martes\,  19:00 horas Ponente: Jacinto Gil Lázaro Jacinto nos hablará s
 obre la Capilla de los Arcángeles el La Seo del Salvador\,  mandada constr
 uir por Gabriel Zaporta para su[..]\nhttps://ateneodezaragoza.com/events/la
 -capilla-de-los-arcangeles-en-la-seo-del-salvador/
URL:https://ateneodezaragoza.com/events/la-capilla-de-los-arcangeles-en-la-seo-del-salvador/
END:VEVENT
END:VCALENDAR