BEGIN:VCALENDAR
VERSION:2.0
PRODID:-//eventon.com NONSGML v1.0//EN
CALSCALE:GREGORIAN
METHOD:PUBLISH
BEGIN:VEVENT
UID:69e8927994847
DTSTAMP:20260422T091849Z
DTSTART:20260507T190000Z
DTEND:20260507T201500Z
LOCATION:
SUMMARY:La nueva política. Ideología vs percepción emocional.
DESCRIPTION:Charla-Conferencia La nueva política. Ideología vs percepció
 n emocional Fundación Ibercaja Patio de la Infanta San Ignacio de Loyola\,
   16 7 de mayo\,  jueves\,  19:00 horas Ponente: Javier Miravete Marco Javi
 er Miravete de Marco es\,  CEO de A+M Investigación y Comunicación\,  Ger
 ente estratégico de ZZ Datalabs\,  Experto en demoscopia\,  investigador d
 e[..]\nhttps://ateneodezaragoza.com/events/la-nueva-politica-ideologia-vs-p
 ercepcion-emocional/
URL:https://ateneodezaragoza.com/events/la-nueva-politica-ideologia-vs-percepcion-emocional/
END:VEVENT
END:VCALENDAR